BEGIN:VCALENDAR
VERSION:2.0
PRODID:-//the Montrose Center - ECPv5.9.0//NONSGML v1.0//EN
CALSCALE:GREGORIAN
METHOD:PUBLISH
X-WR-CALNAME:the Montrose Center
X-ORIGINAL-URL:https://archive.montrosecenter.org
X-WR-CALDESC:Events for the Montrose Center
BEGIN:VTIMEZONE
TZID:America/Chicago
BEGIN:DAYLIGHT
TZOFFSETFROM:-0600
TZOFFSETTO:-0500
TZNAME:CDT
DTSTART:20260308T080000
END:DAYLIGHT
BEGIN:STANDARD
TZOFFSETFROM:-0500
TZOFFSETTO:-0600
TZNAME:CST
DTSTART:20261101T070000
END:STANDARD
BEGIN:DAYLIGHT
TZOFFSETFROM:-0600
TZOFFSETTO:-0500
TZNAME:CDT
DTSTART:20270314T080000
END:DAYLIGHT
BEGIN:STANDARD
TZOFFSETFROM:-0500
TZOFFSETTO:-0600
TZNAME:CST
DTSTART:20271107T070000
END:STANDARD
END:VTIMEZONE
BEGIN:VEVENT
DTSTART;VALUE=DATE:20260427
DTEND;VALUE=DATE:20260428
DTSTAMP:20260425T181155
CREATED:20200109T175619Z
LAST-MODIFIED:20200109T175619Z
UID:27309-1777248000-1777334399@archive.montrosecenter.org
SUMMARY:Day of Silence
DESCRIPTION:A student-led national event where folks take a vow of silence to highlight the silencing and erasure of LGBTQ people at school
URL:https://archive.montrosecenter.org/lgbtq-events-calendar/day-of-silence/2026-04-27/
LOCATION:Worldwide
CATEGORIES:Advocacy,Bisexual,Gay,Intersex,Lesbian,Observance Day,Queer,Transgender
ATTACH;FMTTYPE=image/jpeg:https://archive.montrosecenter.org/wp-content/uploads/2020/01/dos.jpg
END:VEVENT
BEGIN:VEVENT
DTSTART;VALUE=DATE:20260503
DTEND;VALUE=DATE:20260504
DTSTAMP:20260425T181155
CREATED:20200109T181451Z
LAST-MODIFIED:20200109T181451Z
UID:27310-1777766400-1777852799@archive.montrosecenter.org
SUMMARY:International Family Equality Day
DESCRIPTION:Celebrates the diversity and equality of LGBT families.
URL:https://archive.montrosecenter.org/lgbtq-events-calendar/international-family-equality-day/2026-05-03/
LOCATION:Worldwide
CATEGORIES:Advocacy,Observance Day
ATTACH;FMTTYPE=image/png:https://archive.montrosecenter.org/wp-content/uploads/2020/01/ifec.png
END:VEVENT
BEGIN:VEVENT
DTSTART;VALUE=DATE:20260517
DTEND;VALUE=DATE:20260518
DTSTAMP:20260425T181155
CREATED:20200109T182225Z
LAST-MODIFIED:20200109T182225Z
UID:27311-1778976000-1779062399@archive.montrosecenter.org
SUMMARY:International Day Against Homophobia\, Transphobia and Biphobia
DESCRIPTION:Created to draw attention to the violence and discrimination experienced by LGBTQ people.
URL:https://archive.montrosecenter.org/lgbtq-events-calendar/international-day-against-homophobia-transphobia-and-biphobia/2026-05-17/
LOCATION:Worldwide
CATEGORIES:Advocacy,Bisexual,Gay,Lesbian,Observance Day,Queer,Transgender
ATTACH;FMTTYPE=image/png:https://archive.montrosecenter.org/wp-content/uploads/2020/01/International-Day-Against-Homophobia-Transphobia-and-Biphobia.png
END:VEVENT
BEGIN:VEVENT
DTSTART;VALUE=DATE:20260519
DTEND;VALUE=DATE:20260520
DTSTAMP:20260425T181155
CREATED:20200109T182411Z
LAST-MODIFIED:20200109T182411Z
UID:27312-1779148800-1779235199@archive.montrosecenter.org
SUMMARY:Agender Pride Day
DESCRIPTION:Celebrates agender identities.
URL:https://archive.montrosecenter.org/lgbtq-events-calendar/agender-pride-day/2026-05-19/
LOCATION:Worldwide
CATEGORIES:Advocacy,Observance Day,Queer
ATTACH;FMTTYPE=image/png:https://archive.montrosecenter.org/wp-content/uploads/2020/01/agender.png
END:VEVENT
BEGIN:VEVENT
DTSTART;VALUE=DATE:20260522
DTEND;VALUE=DATE:20260523
DTSTAMP:20260425T181155
CREATED:20200109T182551Z
LAST-MODIFIED:20200109T182551Z
UID:27313-1779408000-1779494399@archive.montrosecenter.org
SUMMARY:Harvey Milk Day
DESCRIPTION:In memory of Harvey Milk\, a gay rights activist and politician in California\, assassinated in 1978.
URL:https://archive.montrosecenter.org/lgbtq-events-calendar/harvey-milk-day/2026-05-22/
LOCATION:TX
CATEGORIES:Observance Day
ATTACH;FMTTYPE=image/png:https://archive.montrosecenter.org/wp-content/uploads/2020/01/harveymilkday.png
END:VEVENT
BEGIN:VEVENT
DTSTART;VALUE=DATE:20260524
DTEND;VALUE=DATE:20260525
DTSTAMP:20260425T181155
CREATED:20200109T183233Z
LAST-MODIFIED:20200109T183233Z
UID:27314-1779580800-1779667199@archive.montrosecenter.org
SUMMARY:Pansexual and Panromantic Awareness and Visibility Day
DESCRIPTION:Promotes visibility and awareness of pansexual and panromantic identities.
URL:https://archive.montrosecenter.org/lgbtq-events-calendar/pansexual-and-panromantic-awareness-and-visibility-day/2026-05-24/
LOCATION:TX
CATEGORIES:Observance Day,Queer
ATTACH;FMTTYPE=image/png:https://archive.montrosecenter.org/wp-content/uploads/2020/01/pan.png
END:VEVENT
BEGIN:VEVENT
DTSTART;VALUE=DATE:20260601
DTEND;VALUE=DATE:20260602
DTSTAMP:20260425T181155
CREATED:20200109T191711Z
LAST-MODIFIED:20200109T191711Z
UID:27315-1780272000-1780358399@archive.montrosecenter.org
SUMMARY:First Day of U.S. LGBTQ+ Pride Month
DESCRIPTION:June is celebrated as Pride Month in honor of the Stonewall Riots.
URL:https://archive.montrosecenter.org/lgbtq-events-calendar/u-s-lgbt-pride-month/2026-06-01/
LOCATION:TX
CATEGORIES:Advocacy,Bisexual,Gay,Intersex,Lesbian,Observance Day,Queer,Social/Celebration
ATTACH;FMTTYPE=image/jpeg:https://archive.montrosecenter.org/wp-content/uploads/2018/06/pride.jpg
END:VEVENT
BEGIN:VEVENT
DTSTART;VALUE=DATE:20260612
DTEND;VALUE=DATE:20260613
DTSTAMP:20260425T181155
CREATED:20200109T183350Z
LAST-MODIFIED:20200109T183350Z
UID:27316-1781222400-1781308799@archive.montrosecenter.org
SUMMARY:Pulse Night of Remembrance
DESCRIPTION:Annual day of US remembrance for the loss of 49 people in the Pulse Nightclub shooting in Orlando\, Florida on June 12\, 2016.
URL:https://archive.montrosecenter.org/lgbtq-events-calendar/pulse-night-of-remembrance/2026-06-12/
LOCATION:TX
CATEGORIES:Observance Day
ATTACH;FMTTYPE=image/jpeg:https://archive.montrosecenter.org/wp-content/uploads/2020/01/pulse.jpg
END:VEVENT
BEGIN:VEVENT
DTSTART;VALUE=DATE:20260714
DTEND;VALUE=DATE:20260715
DTSTAMP:20260425T181155
CREATED:20200109T184056Z
LAST-MODIFIED:20200109T184056Z
UID:27317-1783987200-1784073599@archive.montrosecenter.org
SUMMARY:International Non-Binary People's Day
DESCRIPTION:Annual day celebrating the contributions of non-binary people and focusing on the issues affecting them.
URL:https://archive.montrosecenter.org/lgbtq-events-calendar/international-non-binary-peoples-day/2026-07-14/
LOCATION:Worldwide
CATEGORIES:Observance Day,Queer
ATTACH;FMTTYPE=image/png:https://archive.montrosecenter.org/wp-content/uploads/2020/01/nonbinary.png
END:VEVENT
BEGIN:VEVENT
DTSTART;VALUE=DATE:20260917
DTEND;VALUE=DATE:20260925
DTSTAMP:20260425T181155
CREATED:20200109T184542Z
LAST-MODIFIED:20200109T184542Z
UID:27318-1789603200-1790294399@archive.montrosecenter.org
SUMMARY:Bisexual Awareness Week
DESCRIPTION:Promotes visibility of bisexuality\, and culminates on Celebrate Bisexuality Day.
URL:https://archive.montrosecenter.org/lgbtq-events-calendar/bisexual-awareness-week/2026-09-17/
LOCATION:Worldwide
CATEGORIES:Bisexual,Observance Day
ATTACH;FMTTYPE=image/png:https://archive.montrosecenter.org/wp-content/uploads/2020/01/bi.png
END:VEVENT
BEGIN:VEVENT
DTSTART;VALUE=DATE:20260923
DTEND;VALUE=DATE:20260924
DTSTAMP:20260425T181155
CREATED:20200109T184711Z
LAST-MODIFIED:20200109T184711Z
UID:27319-1790121600-1790207999@archive.montrosecenter.org
SUMMARY:Celebrate Bisexuality Day
DESCRIPTION:Celebrates bisexual pride; also called Bi Visibility Day.
URL:https://archive.montrosecenter.org/lgbtq-events-calendar/celebrate-bisexuality-day/2026-09-23/
LOCATION:TX
CATEGORIES:Bisexual,Observance Day
ATTACH;FMTTYPE=image/png:https://archive.montrosecenter.org/wp-content/uploads/2020/01/bi.png
END:VEVENT
BEGIN:VEVENT
DTSTART;VALUE=DATE:20261008
DTEND;VALUE=DATE:20261009
DTSTAMP:20260425T181155
CREATED:20200109T184911Z
LAST-MODIFIED:20200109T184911Z
UID:27320-1791417600-1791503999@archive.montrosecenter.org
SUMMARY:International Lesbian Day
DESCRIPTION:To celebrate lesbians and lesbian culture around the world.
URL:https://archive.montrosecenter.org/lgbtq-events-calendar/international-lesbian-day/2026-10-08/
LOCATION:TX
CATEGORIES:Lesbian,Observance Day
ATTACH;FMTTYPE=image/jpeg:https://archive.montrosecenter.org/wp-content/uploads/2020/01/lesbianday.jpg
END:VEVENT
BEGIN:VEVENT
DTSTART;VALUE=DATE:20261011
DTEND;VALUE=DATE:20261012
DTSTAMP:20260425T181155
CREATED:20200109T190156Z
LAST-MODIFIED:20200109T190156Z
UID:27321-1791676800-1791763199@archive.montrosecenter.org
SUMMARY:National Coming Out Day
DESCRIPTION:Celebrates coming out as a member of the LGBTQ community\, and pushes for environments in which people can safely come out.
URL:https://archive.montrosecenter.org/lgbtq-events-calendar/national-coming-out-day/2026-10-11/
LOCATION:TX
CATEGORIES:Bisexual,Gay,Lesbian,Observance Day,Queer
ATTACH;FMTTYPE=image/jpeg:https://archive.montrosecenter.org/wp-content/uploads/2020/01/National-Coming-Out-Day.jpg
END:VEVENT
BEGIN:VEVENT
DTSTART;VALUE=DATE:20261019
DTEND;VALUE=DATE:20261020
DTSTAMP:20260425T181155
CREATED:20200109T194139Z
LAST-MODIFIED:20200109T194139Z
UID:27322-1792368000-1792454399@archive.montrosecenter.org
SUMMARY:Spirit Day
DESCRIPTION:People wear purple to stand with LGBTQ youth and speak out against LGBTQ bullying.
URL:https://archive.montrosecenter.org/lgbtq-events-calendar/spirit-day/2026-10-19/
LOCATION:TX
CATEGORIES:Advocacy,Observance Day
ATTACH;FMTTYPE=image/png:https://archive.montrosecenter.org/wp-content/uploads/2020/01/spiritday.png
END:VEVENT
BEGIN:VEVENT
DTSTART;VALUE=DATE:20261026
DTEND;VALUE=DATE:20261027
DTSTAMP:20260425T181155
CREATED:20200109T194440Z
LAST-MODIFIED:20200109T194440Z
UID:27323-1792972800-1793059199@archive.montrosecenter.org
SUMMARY:Intersex Awareness Day
DESCRIPTION:Celebrated in October to commemorate the first intersex protest\, which took place in Boston\, MA
URL:https://archive.montrosecenter.org/lgbtq-events-calendar/intersex-awareness-day/2026-10-26/
LOCATION:TX
CATEGORIES:Advocacy,Intersex,Observance Day
ATTACH;FMTTYPE=image/jpeg:https://archive.montrosecenter.org/wp-content/uploads/2020/01/Intersex-Awareness-Day.jpg
END:VEVENT
BEGIN:VEVENT
DTSTART;VALUE=DATE:20261108
DTEND;VALUE=DATE:20261109
DTSTAMP:20260425T181155
CREATED:20200109T195155Z
LAST-MODIFIED:20200109T195155Z
UID:27324-1794096000-1794182399@archive.montrosecenter.org
SUMMARY:Intersex Day of Remembrance
DESCRIPTION:Observed to highlight issues faced by intersex people; marks the birthday of Herculine Barbin
URL:https://archive.montrosecenter.org/lgbtq-events-calendar/intersex-day-of-remembrance/2026-11-08/
LOCATION:TX
CATEGORIES:Intersex,Observance Day
ATTACH;FMTTYPE=image/png:https://archive.montrosecenter.org/wp-content/uploads/2020/01/intersex.png
END:VEVENT
BEGIN:VEVENT
DTSTART;VALUE=DATE:20261120
DTEND;VALUE=DATE:20261121
DTSTAMP:20260425T181155
CREATED:20200109T195337Z
LAST-MODIFIED:20200109T195337Z
UID:27325-1795132800-1795219199@archive.montrosecenter.org
SUMMARY:Transgender Day of Remembrance
DESCRIPTION:Honors the memory of those whose lives were lost in acts of anti-transgender violence.
URL:https://archive.montrosecenter.org/lgbtq-events-calendar/transgender-day-of-remembrance/2026-11-20/
LOCATION:TX
CATEGORIES:Observance Day,Transgender
ATTACH;FMTTYPE=image/png:https://archive.montrosecenter.org/wp-content/uploads/2020/01/Transgender-Day-of-Remembrance.png
END:VEVENT
BEGIN:VEVENT
DTSTART;VALUE=DATE:20261120
DTEND;VALUE=DATE:20261121
DTSTAMP:20260425T181155
CREATED:20200109T195440Z
LAST-MODIFIED:20200109T195440Z
UID:27326-1795132800-1795219199@archive.montrosecenter.org
SUMMARY:International Stand Up to Bullying Day
DESCRIPTION:A semi-annual event in which participants sign and wear a pink shirt to take a visible\, public stance against bullying.
URL:https://archive.montrosecenter.org/lgbtq-events-calendar/international-stand-up-to-bullying-day-2/2026-11-20/
LOCATION:TX
CATEGORIES:Advocacy,Observance Day
ATTACH;FMTTYPE=image/jpeg:https://archive.montrosecenter.org/wp-content/uploads/2020/01/isutb-1.jpg
END:VEVENT
BEGIN:VEVENT
DTSTART;VALUE=DATE:20261201
DTEND;VALUE=DATE:20261202
DTSTAMP:20260425T181155
CREATED:20200109T195637Z
LAST-MODIFIED:20200109T195637Z
UID:27327-1796083200-1796169599@archive.montrosecenter.org
SUMMARY:World AIDS Day
DESCRIPTION:Recognized by the UN\, this day is an opportunity for people worldwide to unite in the fight against HIV/AIDS.
URL:https://archive.montrosecenter.org/lgbtq-events-calendar/world-aids-day/2026-12-01/
LOCATION:TX
ATTACH;FMTTYPE=image/jpeg:https://archive.montrosecenter.org/wp-content/uploads/2020/01/World-AIDS-Day.jpg
END:VEVENT
BEGIN:VEVENT
DTSTART;VALUE=DATE:20261208
DTEND;VALUE=DATE:20261209
DTSTAMP:20260425T181155
CREATED:20200109T195740Z
LAST-MODIFIED:20200109T195740Z
UID:27328-1796688000-1796774399@archive.montrosecenter.org
SUMMARY:Pansexual Pride
DESCRIPTION:Dedicated to celebrating pansexuality.
URL:https://archive.montrosecenter.org/lgbtq-events-calendar/pansexual-pride/2026-12-08/
LOCATION:TX
CATEGORIES:Observance Day,Queer
ATTACH;FMTTYPE=image/png:https://archive.montrosecenter.org/wp-content/uploads/2020/01/pan.png
END:VEVENT
BEGIN:VEVENT
DTSTART;VALUE=DATE:20261210
DTEND;VALUE=DATE:20261211
DTSTAMP:20260425T181155
CREATED:20200109T195910Z
LAST-MODIFIED:20200109T195910Z
UID:27329-1796860800-1796947199@archive.montrosecenter.org
SUMMARY:Human Rights Day
DESCRIPTION:Commemorates the day in 1948 the United Nations General Assembly adopted the Universal Declaration of Human Rights.
URL:https://archive.montrosecenter.org/lgbtq-events-calendar/human-rights-day/2026-12-10/
LOCATION:TX
CATEGORIES:Advocacy,Observance Day
ATTACH;FMTTYPE=image/jpeg:https://archive.montrosecenter.org/wp-content/uploads/2020/01/Human-Rights-Day.jpg
END:VEVENT
BEGIN:VEVENT
DTSTART;VALUE=DATE:20270131
DTEND;VALUE=DATE:20270201
DTSTAMP:20260425T181155
CREATED:20200109T174524Z
LAST-MODIFIED:20200109T174524Z
UID:27330-1801353600-1801439999@archive.montrosecenter.org
SUMMARY:International Transgender Day of Visibility
DESCRIPTION:Dedicated to celebrating the accomplishments and victories of transgender & gender non-conforming people while raising awareness of the work that is still needed to save trans lives.
URL:https://archive.montrosecenter.org/lgbtq-events-calendar/international-transgender-day-of-visibility/2027-01-31/
LOCATION:Worldwide
CATEGORIES:Advocacy,Observance Day,Transgender
ATTACH;FMTTYPE=image/jpeg:https://archive.montrosecenter.org/wp-content/uploads/2020/01/tgdv.jpg
END:VEVENT
BEGIN:VEVENT
DTSTART;VALUE=DATE:20270226
DTEND;VALUE=DATE:20270227
DTSTAMP:20260425T181155
CREATED:20200109T173206Z
LAST-MODIFIED:20200109T173206Z
UID:27331-1803600000-1803686399@archive.montrosecenter.org
SUMMARY:International Stand Up to Bullying Day
DESCRIPTION:A semi-annual event in which participants sign and wear a pink shirt to take a visible\, public stance against bullying.
URL:https://archive.montrosecenter.org/lgbtq-events-calendar/international-stand-up-to-bullying-day/2027-02-26/
LOCATION:Worldwide
CATEGORIES:Advocacy,Observance Day
ATTACH;FMTTYPE=image/jpeg:https://archive.montrosecenter.org/wp-content/uploads/2020/01/isutb-1.jpg
END:VEVENT
BEGIN:VEVENT
DTSTART;VALUE=DATE:20270427
DTEND;VALUE=DATE:20270428
DTSTAMP:20260425T181155
CREATED:20200109T175619Z
LAST-MODIFIED:20200109T175619Z
UID:27332-1808784000-1808870399@archive.montrosecenter.org
SUMMARY:Day of Silence
DESCRIPTION:A student-led national event where folks take a vow of silence to highlight the silencing and erasure of LGBTQ people at school
URL:https://archive.montrosecenter.org/lgbtq-events-calendar/day-of-silence/2027-04-27/
LOCATION:Worldwide
CATEGORIES:Advocacy,Bisexual,Gay,Intersex,Lesbian,Observance Day,Queer,Transgender
ATTACH;FMTTYPE=image/jpeg:https://archive.montrosecenter.org/wp-content/uploads/2020/01/dos.jpg
END:VEVENT
BEGIN:VEVENT
DTSTART;VALUE=DATE:20270502
DTEND;VALUE=DATE:20270503
DTSTAMP:20260425T181155
CREATED:20200109T181451Z
LAST-MODIFIED:20200109T181451Z
UID:27333-1809216000-1809302399@archive.montrosecenter.org
SUMMARY:International Family Equality Day
DESCRIPTION:Celebrates the diversity and equality of LGBT families.
URL:https://archive.montrosecenter.org/lgbtq-events-calendar/international-family-equality-day/2027-05-02/
LOCATION:Worldwide
CATEGORIES:Advocacy,Observance Day
ATTACH;FMTTYPE=image/png:https://archive.montrosecenter.org/wp-content/uploads/2020/01/ifec.png
END:VEVENT
BEGIN:VEVENT
DTSTART;VALUE=DATE:20270517
DTEND;VALUE=DATE:20270518
DTSTAMP:20260425T181155
CREATED:20200109T182225Z
LAST-MODIFIED:20200109T182225Z
UID:27334-1810512000-1810598399@archive.montrosecenter.org
SUMMARY:International Day Against Homophobia\, Transphobia and Biphobia
DESCRIPTION:Created to draw attention to the violence and discrimination experienced by LGBTQ people.
URL:https://archive.montrosecenter.org/lgbtq-events-calendar/international-day-against-homophobia-transphobia-and-biphobia/2027-05-17/
LOCATION:Worldwide
CATEGORIES:Advocacy,Bisexual,Gay,Lesbian,Observance Day,Queer,Transgender
ATTACH;FMTTYPE=image/png:https://archive.montrosecenter.org/wp-content/uploads/2020/01/International-Day-Against-Homophobia-Transphobia-and-Biphobia.png
END:VEVENT
BEGIN:VEVENT
DTSTART;VALUE=DATE:20270519
DTEND;VALUE=DATE:20270520
DTSTAMP:20260425T181155
CREATED:20200109T182411Z
LAST-MODIFIED:20200109T182411Z
UID:27336-1810684800-1810771199@archive.montrosecenter.org
SUMMARY:Agender Pride Day
DESCRIPTION:Celebrates agender identities.
URL:https://archive.montrosecenter.org/lgbtq-events-calendar/agender-pride-day/2027-05-19/
LOCATION:Worldwide
CATEGORIES:Advocacy,Observance Day,Queer
ATTACH;FMTTYPE=image/png:https://archive.montrosecenter.org/wp-content/uploads/2020/01/agender.png
END:VEVENT
BEGIN:VEVENT
DTSTART;VALUE=DATE:20270522
DTEND;VALUE=DATE:20270523
DTSTAMP:20260425T181155
CREATED:20200109T182551Z
LAST-MODIFIED:20200109T182551Z
UID:27338-1810944000-1811030399@archive.montrosecenter.org
SUMMARY:Harvey Milk Day
DESCRIPTION:In memory of Harvey Milk\, a gay rights activist and politician in California\, assassinated in 1978.
URL:https://archive.montrosecenter.org/lgbtq-events-calendar/harvey-milk-day/2027-05-22/
LOCATION:TX
CATEGORIES:Observance Day
ATTACH;FMTTYPE=image/png:https://archive.montrosecenter.org/wp-content/uploads/2020/01/harveymilkday.png
END:VEVENT
BEGIN:VEVENT
DTSTART;VALUE=DATE:20270524
DTEND;VALUE=DATE:20270525
DTSTAMP:20260425T181155
CREATED:20200109T183233Z
LAST-MODIFIED:20200109T183233Z
UID:27339-1811116800-1811203199@archive.montrosecenter.org
SUMMARY:Pansexual and Panromantic Awareness and Visibility Day
DESCRIPTION:Promotes visibility and awareness of pansexual and panromantic identities.
URL:https://archive.montrosecenter.org/lgbtq-events-calendar/pansexual-and-panromantic-awareness-and-visibility-day/2027-05-24/
LOCATION:TX
CATEGORIES:Observance Day,Queer
ATTACH;FMTTYPE=image/png:https://archive.montrosecenter.org/wp-content/uploads/2020/01/pan.png
END:VEVENT
BEGIN:VEVENT
DTSTART;VALUE=DATE:20270601
DTEND;VALUE=DATE:20270602
DTSTAMP:20260425T181155
CREATED:20200109T191711Z
LAST-MODIFIED:20200109T191711Z
UID:27340-1811808000-1811894399@archive.montrosecenter.org
SUMMARY:First Day of U.S. LGBTQ+ Pride Month
DESCRIPTION:June is celebrated as Pride Month in honor of the Stonewall Riots.
URL:https://archive.montrosecenter.org/lgbtq-events-calendar/u-s-lgbt-pride-month/2027-06-01/
LOCATION:TX
CATEGORIES:Advocacy,Bisexual,Gay,Intersex,Lesbian,Observance Day,Queer,Social/Celebration
ATTACH;FMTTYPE=image/jpeg:https://archive.montrosecenter.org/wp-content/uploads/2018/06/pride.jpg
END:VEVENT
END:VCALENDAR